BEGIN:VCALENDAR
VERSION:2.0
PRODID:-//Wayne County Public Library - ECPv6.15.20//NONSGML v1.0//EN
CALSCALE:GREGORIAN
METHOD:PUBLISH
X-WR-CALNAME:Wayne County Public Library
X-ORIGINAL-URL:https://wcpl.org
X-WR-CALDESC:Events for Wayne County Public Library
REFRESH-INTERVAL;VALUE=DURATION:PT1H
X-Robots-Tag:noindex
X-PUBLISHED-TTL:PT1H
BEGIN:VTIMEZONE
TZID:America/New_York
BEGIN:DAYLIGHT
TZOFFSETFROM:-0500
TZOFFSETTO:-0400
TZNAME:EDT
DTSTART:20240310T070000
END:DAYLIGHT
BEGIN:STANDARD
TZOFFSETFROM:-0400
TZOFFSETTO:-0500
TZNAME:EST
DTSTART:20241103T060000
END:STANDARD
BEGIN:DAYLIGHT
TZOFFSETFROM:-0500
TZOFFSETTO:-0400
TZNAME:EDT
DTSTART:20250309T070000
END:DAYLIGHT
BEGIN:STANDARD
TZOFFSETFROM:-0400
TZOFFSETTO:-0500
TZNAME:EST
DTSTART:20251102T060000
END:STANDARD
BEGIN:DAYLIGHT
TZOFFSETFROM:-0500
TZOFFSETTO:-0400
TZNAME:EDT
DTSTART:20260308T070000
END:DAYLIGHT
BEGIN:STANDARD
TZOFFSETFROM:-0400
TZOFFSETTO:-0500
TZNAME:EST
DTSTART:20261101T060000
END:STANDARD
END:VTIMEZONE
BEGIN:VEVENT
DTSTART;TZID=America/New_York:20250514T100000
DTEND;TZID=America/New_York:20250514T130000
DTSTAMP:20260423T080252
CREATED:20250403T213046Z
LAST-MODIFIED:20250403T213046Z
UID:17394-1747216800-1747227600@wcpl.org
SUMMARY:Open Makerspace Hours  (Steele Mem.)
DESCRIPTION:Bring your own supplies and use our makerspace tools – Cricut\, sewing\, knitting\, crochet – on our big craft tables. \n 
URL:https://wcpl.org/event/open-makerspace-hours-steele-mem-120/
LOCATION:Steele Memorial Library\, 119 W Main St.\, Mt. Olive\, NC\, 28365\, United States
CATEGORIES:Adult,Steele Memorial
END:VEVENT
BEGIN:VEVENT
DTSTART;TZID=America/New_York:20250514T160000
DTEND;TZID=America/New_York:20250514T170000
DTSTAMP:20260423T080252
CREATED:20250408T121129Z
LAST-MODIFIED:20250408T121129Z
UID:17445-1747238400-1747242000@wcpl.org
SUMMARY:Getting Started with Local History  
DESCRIPTION:Have you always been curious about the Local History Room? Join us for this informational session about our local history resources and how to use them! Space is limited—registration required. Call 919-735-1824 ext 1830 to sign up. \n 
URL:https://wcpl.org/event/getting-started-with-local-history-3/
LOCATION:Wayne County Public Library – Goldsboro\, 1001 E Ash Street\, Goldsboro\, NC\, 27530\, United States
CATEGORIES:Adult,Goldsboro,Local History
END:VEVENT
BEGIN:VEVENT
DTSTART;TZID=America/New_York:20250514T180000
DTEND;TZID=America/New_York:20250514T190000
DTSTAMP:20260423T080252
CREATED:20250408T121528Z
LAST-MODIFIED:20250408T121528Z
UID:17447-1747245600-1747249200@wcpl.org
SUMMARY:Asthma and Allergy Management 
DESCRIPTION:Join us for our monthly Wellness Wednesday series! This month\, Sylvia Judd from UNC Health Wayne will join us to discuss tips and resources for managing asthma and allergies. Call 919-735-1824 Ext 5100 to register or for more information.  We’ll be meeting in the Yellow Study Room at the Goldsboro Library. \n 
URL:https://wcpl.org/event/asthma-and-allergy-management/
LOCATION:Wayne County Public Library – Goldsboro\, 1001 E Ash Street\, Goldsboro\, NC\, 27530\, United States
CATEGORIES:Adult,Goldsboro
END:VEVENT
BEGIN:VEVENT
DTSTART;TZID=America/New_York:20250515T180000
DTEND;TZID=America/New_York:20250515T193000
DTSTAMP:20260423T080252
CREATED:20250408T121811Z
LAST-MODIFIED:20250408T121811Z
UID:17449-1747332000-1747337400@wcpl.org
SUMMARY:Local History Trivia 
DESCRIPTION:Test your knowledge of our local history with an evening of Local History Trivia! Form a team and earn prizes. For more information\, call 919-735-1824 ext 1830. \n 
URL:https://wcpl.org/event/local-history-trivia-2/
LOCATION:Wayne County Public Library – Goldsboro\, 1001 E Ash Street\, Goldsboro\, NC\, 27530\, United States
CATEGORIES:Adult,Goldsboro,Local History
END:VEVENT
BEGIN:VEVENT
DTSTART;TZID=America/New_York:20250516T130000
DTEND;TZID=America/New_York:20250516T160000
DTSTAMP:20260423T080252
CREATED:20250403T214747Z
LAST-MODIFIED:20250403T214747Z
UID:17404-1747400400-1747411200@wcpl.org
SUMMARY:Open Makerspace Hours  (Steele Mem.)
DESCRIPTION:Bring your own supplies and use our makerspace tools – Cricut\, sewing\, knitting\, crochet – on our big craft tables. \n 
URL:https://wcpl.org/event/open-makerspace-hours-steele-mem-125/
LOCATION:Steele Memorial Library\, 119 W Main St.\, Mt. Olive\, NC\, 28365\, United States
CATEGORIES:Adult,Steele Memorial
END:VEVENT
BEGIN:VEVENT
DTSTART;TZID=America/New_York:20250517T100000
DTEND;TZID=America/New_York:20250517T113000
DTSTAMP:20260423T080252
CREATED:20250408T124334Z
LAST-MODIFIED:20250408T124334Z
UID:17465-1747476000-1747481400@wcpl.org
SUMMARY:Dogs’ Day at the Neuse 
DESCRIPTION:Bring your furry friends for a morning of walking and learning about the Neuse River. Space is limited and registration is required\, and all dogs are required to be on a leash. Call 919-735-1824 ext. 5100 to register. Rain date will be May 31\, 2025. \n 
URL:https://wcpl.org/event/dogs-day-at-the-neuse-3/
LOCATION:Cliffs of the Neuse State Park\, 240 Park Entrance Rd\, Seven Springs\, 28578\, United States
CATEGORIES:Adult
END:VEVENT
BEGIN:VEVENT
DTSTART;TZID=America/New_York:20250520T100000
DTEND;TZID=America/New_York:20250520T110000
DTSTAMP:20260423T080252
CREATED:20250408T125021Z
LAST-MODIFIED:20250414T173819Z
UID:17469-1747735200-1747738800@wcpl.org
SUMMARY:Northern Wayne Stitchers
DESCRIPTION:The program is designed to create a relaxed\, welcoming environment where participants can focus on honing their craft while receiving the support they need to challenge themselves creatively. It’s an ideal opportunity for experienced stitchers to elevate their work\, troubleshoot projects\, and continue growing as artisans. Registration is required. Please call 919-705-1892 to register. \n 
URL:https://wcpl.org/event/northern-wayne-stitchers-20/
LOCATION:Northern Wayne Library\, 609 S. Wilson St.\, Fremont\, NC\, 27830\, United States
CATEGORIES:Adult,Northern Wayne Library
END:VEVENT
BEGIN:VEVENT
DTSTART;TZID=America/New_York:20250520T173000
DTEND;TZID=America/New_York:20250520T190000
DTSTAMP:20260423T080252
CREATED:20250408T122055Z
LAST-MODIFIED:20250408T122055Z
UID:17451-1747762200-1747767600@wcpl.org
SUMMARY:Goldsboro Cross Stitchers 
DESCRIPTION:Join the Goldsboro Cross Stitchers! Connect with other people who enjoy cross stitch and learn new tips and tricks! Call 919-735-1824 Ext 5100 to register or for more information. \n 
URL:https://wcpl.org/event/goldsboro-cross-stitchers-4/
LOCATION:Wayne County Public Library – Goldsboro\, 1001 E Ash Street\, Goldsboro\, NC\, 27530\, United States
CATEGORIES:Adult,Goldsboro
END:VEVENT
BEGIN:VEVENT
DTSTART;TZID=America/New_York:20250521T100000
DTEND;TZID=America/New_York:20250521T130000
DTSTAMP:20260423T080252
CREATED:20250403T213910Z
LAST-MODIFIED:20250403T213910Z
UID:17396-1747821600-1747832400@wcpl.org
SUMMARY:Open Makerspace Hours  (Steele Mem.)
DESCRIPTION:Bring your own supplies and use our makerspace tools – Cricut\, sewing\, knitting\, crochet – on our big craft tables. \n 
URL:https://wcpl.org/event/open-makerspace-hours-steele-mem-121/
LOCATION:Steele Memorial Library\, 119 W Main St.\, Mt. Olive\, NC\, 28365\, United States
CATEGORIES:Adult,Steele Memorial
END:VEVENT
BEGIN:VEVENT
DTSTART;TZID=America/New_York:20250521T150000
DTEND;TZID=America/New_York:20250521T160000
DTSTAMP:20260423T080252
CREATED:20250408T122431Z
LAST-MODIFIED:20250408T122431Z
UID:17453-1747839600-1747843200@wcpl.org
SUMMARY:Cardio Drumming  (Goldsboro)
DESCRIPTION:Get into a groovy rhythm! Join us for Cardio Drumming! Registration required\, spots limited – call 919-735-1824 x5100. \n 
URL:https://wcpl.org/event/cardio-drumming-goldsboro-5/
LOCATION:Wayne County Public Library – Goldsboro\, 1001 E Ash Street\, Goldsboro\, NC\, 27530\, United States
CATEGORIES:Adult,Goldsboro
END:VEVENT
BEGIN:VEVENT
DTSTART;TZID=America/New_York:20250521T150000
DTEND;TZID=America/New_York:20250521T163000
DTSTAMP:20260423T080252
CREATED:20250403T212621Z
LAST-MODIFIED:20250403T212621Z
UID:17390-1747839600-1747845000@wcpl.org
SUMMARY:Spring Spa Day Craft (Steele Mem.)
DESCRIPTION:We will be making a bath bomb\, a soap\, and an herbal tea blend for a relaxing craft day.  Please call 919-299-8105 ext. 5351 to register. \n 
URL:https://wcpl.org/event/spring-spa-day-craft-steele-mem/
LOCATION:Steele Memorial Library\, 119 W Main St.\, Mt. Olive\, NC\, 28365\, United States
CATEGORIES:Adult,Steele Memorial
END:VEVENT
BEGIN:VEVENT
DTSTART;TZID=America/New_York:20250521T170000
DTEND;TZID=America/New_York:20250521T180000
DTSTAMP:20260423T080252
CREATED:20250408T122917Z
LAST-MODIFIED:20250408T122917Z
UID:17457-1747846800-1747850400@wcpl.org
SUMMARY:Blackout Poetry 
DESCRIPTION:Do you enjoy poetry\, but find the words don’t always come easily to you? Join us in making blackout poetry using the historical writings found in the Local History Special Collections. Call 919-735-1824 ext 1830 to register. \n 
URL:https://wcpl.org/event/blackout-poetry/
LOCATION:Wayne County Public Library – Goldsboro\, 1001 E Ash Street\, Goldsboro\, NC\, 27530\, United States
CATEGORIES:Adult,Goldsboro,Local History
END:VEVENT
BEGIN:VEVENT
DTSTART;TZID=America/New_York:20250522T150000
DTEND;TZID=America/New_York:20250522T160000
DTSTAMP:20260423T080252
CREATED:20250403T210525Z
LAST-MODIFIED:20250403T210525Z
UID:17375-1747926000-1747929600@wcpl.org
SUMMARY:Cardio Drumming  (Steele Mem.)
DESCRIPTION:Cardio drumming is an adult class that brings together drumsticks\, an exercise ball\, and stand to create one of the most fun workouts you’ll ever do.  Please call 919-299-8105 ext. 5351 to register. \n 
URL:https://wcpl.org/event/cardio-drumming-steele-mem-54/
LOCATION:Steele Memorial Library\, 119 W Main St.\, Mt. Olive\, NC\, 28365\, United States
CATEGORIES:Adult,Steele Memorial
END:VEVENT
BEGIN:VEVENT
DTSTART;TZID=America/New_York:20250522T180000
DTEND;TZID=America/New_York:20250522T190000
DTSTAMP:20260423T080252
CREATED:20250408T150619Z
LAST-MODIFIED:20250408T150619Z
UID:17495-1747936800-1747940400@wcpl.org
SUMMARY:Silent Read N’ Sip 
DESCRIPTION:Instead of setting time constraints on yourself to read a certain type of book\, visit a newer type of book club where you can read whatever you want. We’ll begin by talking about what books we are currently reading. Later\, you will silently read the book you brought to our club. Feel free to read print or electronic books. This is meant to be a quiet\, cozy\, and relaxing time for everyone. \n 
URL:https://wcpl.org/event/silent-read-n-sip-16/
LOCATION:Wayne County Public Library – Goldsboro\, 1001 E Ash Street\, Goldsboro\, NC\, 27530\, United States
CATEGORIES:Adult,Goldsboro,Library Book Club
END:VEVENT
BEGIN:VEVENT
DTSTART;TZID=America/New_York:20250523T130000
DTEND;TZID=America/New_York:20250523T160000
DTSTAMP:20260423T080252
CREATED:20250403T214947Z
LAST-MODIFIED:20250403T214947Z
UID:17406-1748005200-1748016000@wcpl.org
SUMMARY:Open Makerspace Hours  (Steele Mem.)
DESCRIPTION:Bring your own supplies and use our makerspace tools – Cricut\, sewing\, knitting\, crochet – on our big craft tables. \n 
URL:https://wcpl.org/event/open-makerspace-hours-steele-mem-126/
LOCATION:Steele Memorial Library\, 119 W Main St.\, Mt. Olive\, NC\, 28365\, United States
CATEGORIES:Adult,Steele Memorial
END:VEVENT
BEGIN:VEVENT
DTSTART;TZID=America/New_York:20250524T140000
DTEND;TZID=America/New_York:20250524T153000
DTSTAMP:20260423T080252
CREATED:20250408T123208Z
LAST-MODIFIED:20250408T123208Z
UID:17459-1748095200-1748100600@wcpl.org
SUMMARY:Studio Ghibli Fan Club
DESCRIPTION:Immerse yourself in the world of Studio Ghibli with crafting and snacks! Try your hand at some origami while we watch “Kiki’s Delivery Service.” Ages 13+. Registration is required! To register\, call 919-735-1824 ext. 5110. \n 
URL:https://wcpl.org/event/studio-ghibli-fan-club-2/
LOCATION:Wayne County Public Library – Goldsboro\, 1001 E Ash Street\, Goldsboro\, NC\, 27530\, United States
CATEGORIES:Adult,Goldsboro,Teens
END:VEVENT
BEGIN:VEVENT
DTSTART;TZID=America/New_York:20250527T140000
DTEND;TZID=America/New_York:20250527T153000
DTSTAMP:20260423T080252
CREATED:20250408T123602Z
LAST-MODIFIED:20250408T123602Z
UID:17461-1748354400-1748359800@wcpl.org
SUMMARY:Military Research: Introduction to Fold3 
DESCRIPTION:Want to do research about your family’s military history? Join us for an introduction to using Fold3\, an online genealogical database designed specifically for military research! Registration recommended. Call 919-735-1824 ext. 1830 or email library.localhistory@waynegov.com to register. \n 
URL:https://wcpl.org/event/military-research-introduction-to-fold3-2/
LOCATION:Wayne County Public Library – Goldsboro\, 1001 E Ash Street\, Goldsboro\, NC\, 27530\, United States
CATEGORIES:Adult,Goldsboro,Local History
END:VEVENT
BEGIN:VEVENT
DTSTART;TZID=America/New_York:20250527T150000
DTEND;TZID=America/New_York:20250527T160000
DTSTAMP:20260423T080252
CREATED:20250408T150915Z
LAST-MODIFIED:20250408T150915Z
UID:17497-1748358000-1748361600@wcpl.org
SUMMARY:New Dawn Inspirational Book Club
DESCRIPTION:Join us as we discuss books of Inspirational Fiction. This month we will be discussing the book A Season on the Wind by Suzanne Woods Fisher.  Please call 919-735-1824\, ext. 5102 to register. \n 
URL:https://wcpl.org/event/new-dawn-inspirational-book-club/
LOCATION:Wayne County Public Library – Goldsboro\, 1001 E Ash Street\, Goldsboro\, NC\, 27530\, United States
CATEGORIES:Adult,Goldsboro,Library Book Club
END:VEVENT
BEGIN:VEVENT
DTSTART;TZID=America/New_York:20250527T180000
DTEND;TZID=America/New_York:20250527T193000
DTSTAMP:20260423T080252
CREATED:20250408T203904Z
LAST-MODIFIED:20250414T141001Z
UID:17550-1748368800-1748374200@wcpl.org
SUMMARY:Trivia Night: Millennials vs. Gen Z 
DESCRIPTION:Test your pop culture knowledge! Team up and earn prizes! Call 919-735-1824 ext. 5100 to register.(At Well Travelled Beer)
URL:https://wcpl.org/event/trivia-night-millennials-vs-gen-z/
LOCATION:Well Travelled Beer\, 201 South Center St.\, Goldsboro\, NC\, 27530
CATEGORIES:Adult
END:VEVENT
BEGIN:VEVENT
DTSTART;TZID=America/New_York:20250528T100000
DTEND;TZID=America/New_York:20250528T130000
DTSTAMP:20260423T080252
CREATED:20250403T214117Z
LAST-MODIFIED:20250403T214117Z
UID:17398-1748426400-1748437200@wcpl.org
SUMMARY:Open Makerspace Hours  (Steele Mem.)
DESCRIPTION:Bring your own supplies and use our makerspace tools – Cricut\, sewing\, knitting\, crochet – on our big craft tables.
URL:https://wcpl.org/event/open-makerspace-hours-steele-mem-122/
LOCATION:Steele Memorial Library\, 119 W Main St.\, Mt. Olive\, NC\, 28365\, United States
CATEGORIES:Adult,Steele Memorial
END:VEVENT
BEGIN:VEVENT
DTSTART;TZID=America/New_York:20250528T150000
DTEND;TZID=America/New_York:20250528T160000
DTSTAMP:20260423T080252
CREATED:20250408T122625Z
LAST-MODIFIED:20250408T122625Z
UID:17455-1748444400-1748448000@wcpl.org
SUMMARY:Cardio Drumming  (Goldsboro)
DESCRIPTION:Get into a groovy rhythm! Join us for Cardio Drumming! Registration required\, spots limited – call 919-735-1824 x5100. \n 
URL:https://wcpl.org/event/cardio-drumming-goldsboro-6/
LOCATION:Wayne County Public Library – Goldsboro\, 1001 E Ash Street\, Goldsboro\, NC\, 27530\, United States
CATEGORIES:Adult,Goldsboro
END:VEVENT
BEGIN:VEVENT
DTSTART;TZID=America/New_York:20250528T183000
DTEND;TZID=America/New_York:20250528T193000
DTSTAMP:20260423T080252
CREATED:20250408T151622Z
LAST-MODIFIED:20250408T151622Z
UID:17501-1748457000-1748460600@wcpl.org
SUMMARY:Paint & Sip Coffee
DESCRIPTION:Paint a picture with us – all skill levels welcomed and encouraged!  Registration required. Call (919) 735-1824 ext 5102 or email jamie.tyler@waynegov.com to register. \n 
URL:https://wcpl.org/event/paint-sip-coffee-16/
LOCATION:Wayne County Public Library – Goldsboro\, 1001 E Ash Street\, Goldsboro\, NC\, 27530\, United States
CATEGORIES:Adult,Goldsboro
END:VEVENT
BEGIN:VEVENT
DTSTART;TZID=America/New_York:20250529T150000
DTEND;TZID=America/New_York:20250529T160000
DTSTAMP:20260423T080252
CREATED:20250403T210646Z
LAST-MODIFIED:20250403T210646Z
UID:17377-1748530800-1748534400@wcpl.org
SUMMARY:Cardio Drumming  (Steele Mem.)
DESCRIPTION:Cardio drumming is an adult class that brings together drumsticks\, an exercise ball\, and stand to create one of the most fun workouts you’ll ever do.  Please call 919-299-8105 ext. 5351 to register. \n 
URL:https://wcpl.org/event/cardio-drumming-steele-mem-55/
LOCATION:Steele Memorial Library\, 119 W Main St.\, Mt. Olive\, NC\, 28365\, United States
CATEGORIES:Adult,Steele Memorial
END:VEVENT
BEGIN:VEVENT
DTSTART;TZID=America/New_York:20250530T130000
DTEND;TZID=America/New_York:20250530T160000
DTSTAMP:20260423T080252
CREATED:20250403T215152Z
LAST-MODIFIED:20250403T215152Z
UID:17408-1748610000-1748620800@wcpl.org
SUMMARY:Open Makerspace Hours  (Steele Mem.)
DESCRIPTION:Bring your own supplies and use our makerspace tools – Cricut\, sewing\, knitting\, crochet – on our big craft tables. \n 
URL:https://wcpl.org/event/open-makerspace-hours-steele-mem-127/
LOCATION:Steele Memorial Library\, 119 W Main St.\, Mt. Olive\, NC\, 28365\, United States
CATEGORIES:Adult,Steele Memorial
END:VEVENT
BEGIN:VEVENT
DTSTART;TZID=America/New_York:20250531T150000
DTEND;TZID=America/New_York:20250531T160000
DTSTAMP:20260423T080252
CREATED:20250408T123952Z
LAST-MODIFIED:20250408T123952Z
UID:17463-1748703600-1748707200@wcpl.org
SUMMARY:TTRPG Miniature Painting 
DESCRIPTION:Bring your TTRPG character to life with us! Join us in the auditorium for a miniature painting session. Call 919-735-1824 ext. 5100 for more information or to register.  Ages 14+. \n 
URL:https://wcpl.org/event/ttrpg-miniature-painting-2/
LOCATION:Wayne County Public Library – Goldsboro\, 1001 E Ash Street\, Goldsboro\, NC\, 27530\, United States
CATEGORIES:Adult,Goldsboro,Teens
END:VEVENT
BEGIN:VEVENT
DTSTART;TZID=America/New_York:20250602T100000
DTEND;TZID=America/New_York:20250602T110000
DTSTAMP:20260423T080252
CREATED:20250506T185132Z
LAST-MODIFIED:20250506T185132Z
UID:17936-1748858400-1748862000@wcpl.org
SUMMARY:Northern Wayne Inspirational Book Club
DESCRIPTION:Each month we will dive into stories of perseverance\, growth\, and transformation. Creating a space where readers come together to explore uplifting books\, and leave feeling motivated and inspired. This month we will be discussing “The Ark and the Dove” Written by Jill Eileen Smith.  Registration is required. Contact 919-705-1892. \n 
URL:https://wcpl.org/event/northern-wayne-inspirational-book-club-12/
LOCATION:Northern Wayne Library\, 609 S. Wilson St.\, Fremont\, NC\, 27830\, United States
CATEGORIES:Adult,Library Book Club,Northern Wayne Library
END:VEVENT
BEGIN:VEVENT
DTSTART;TZID=America/New_York:20250603T100000
DTEND;TZID=America/New_York:20250603T113000
DTSTAMP:20260423T080252
CREATED:20250506T184516Z
LAST-MODIFIED:20250506T184516Z
UID:17930-1748944800-1748950200@wcpl.org
SUMMARY:Northern Wayne Stitchers 
DESCRIPTION:The program is designed to create a relaxed\, welcoming environment where participants can focus on honing their craft while receiving the support they need to challenge themselves creatively. It’s an ideal opportunity for experienced stitchers to elevate their work\, troubleshoot projects\, and continue growing as artisans. Registration is required. Contact 919-705-1892. \n 
URL:https://wcpl.org/event/northern-wayne-stitchers-21/
LOCATION:Northern Wayne Library\, 609 S. Wilson St.\, Fremont\, NC\, 27830\, United States
CATEGORIES:Adult,Northern Wayne Library
END:VEVENT
BEGIN:VEVENT
DTSTART;TZID=America/New_York:20250604T100000
DTEND;TZID=America/New_York:20250604T130000
DTSTAMP:20260423T080252
CREATED:20250502T174435Z
LAST-MODIFIED:20250502T174848Z
UID:17867-1749031200-1749042000@wcpl.org
SUMMARY:Open Makerspace Hours  (Steele Mem.)
DESCRIPTION:Bring your own supplies and use our makerspace tools – Cricut\, sewing\, knitting\, crochet – on our big craft tables. \n 
URL:https://wcpl.org/event/open-makerspace-hours-steele-mem-128/
LOCATION:Steele Memorial Library\, 119 W Main St.\, Mt. Olive\, NC\, 28365\, United States
CATEGORIES:Adult,Steele Memorial
END:VEVENT
BEGIN:VEVENT
DTSTART;TZID=America/New_York:20250604T140000
DTEND;TZID=America/New_York:20250604T150000
DTSTAMP:20260423T080252
CREATED:20250507T181550Z
LAST-MODIFIED:20250507T181550Z
UID:17948-1749045600-1749049200@wcpl.org
SUMMARY:From the Archive: The Eleanor Bizzell Powell Papers 
DESCRIPTION:Join us for our From the Archive program! We will discuss the process of acquiring and managing our local history collection\, and attendees will have an opportunity to dig deeper into one of our many special collections—the Eleanor Bizzell Powell Papers.  Space is limited. Call 919-735-1824 ext 1830 to register. \n 
URL:https://wcpl.org/event/from-the-archive-the-eleanor-bizzell-powell-papers/
LOCATION:Wayne County Public Library – Goldsboro\, 1001 E Ash Street\, Goldsboro\, NC\, 27530\, United States
CATEGORIES:Adult,Goldsboro,Local History
END:VEVENT
BEGIN:VEVENT
DTSTART;TZID=America/New_York:20250605T150000
DTEND;TZID=America/New_York:20250605T160000
DTSTAMP:20260423T080252
CREATED:20250502T164606Z
LAST-MODIFIED:20250502T164606Z
UID:17849-1749135600-1749139200@wcpl.org
SUMMARY:Cardio Drumming (Steele Mem.)
DESCRIPTION:Cardio drumming is an adult class that brings together drumsticks\, an exercise ball\, and stand to create one of the most fun workouts you’ll ever do.  Please call 919-299-8105 ext. 5351 to register. \n 
URL:https://wcpl.org/event/cardio-drumming-steele-mem-53/
LOCATION:Steele Memorial Library\, 119 W Main St.\, Mt. Olive\, NC\, 28365\, United States
CATEGORIES:Adult,Steele Memorial
END:VEVENT
END:VCALENDAR