BEGIN:VCALENDAR
VERSION:2.0
PRODID:-//Wayne County Public Library - ECPv6.15.20//NONSGML v1.0//EN
CALSCALE:GREGORIAN
METHOD:PUBLISH
X-WR-CALNAME:Wayne County Public Library
X-ORIGINAL-URL:https://wcpl.org
X-WR-CALDESC:Events for Wayne County Public Library
REFRESH-INTERVAL;VALUE=DURATION:PT1H
X-Robots-Tag:noindex
X-PUBLISHED-TTL:PT1H
BEGIN:VTIMEZONE
TZID:America/New_York
BEGIN:DAYLIGHT
TZOFFSETFROM:-0500
TZOFFSETTO:-0400
TZNAME:EDT
DTSTART:20250309T070000
END:DAYLIGHT
BEGIN:STANDARD
TZOFFSETFROM:-0400
TZOFFSETTO:-0500
TZNAME:EST
DTSTART:20251102T060000
END:STANDARD
BEGIN:DAYLIGHT
TZOFFSETFROM:-0500
TZOFFSETTO:-0400
TZNAME:EDT
DTSTART:20260308T070000
END:DAYLIGHT
BEGIN:STANDARD
TZOFFSETFROM:-0400
TZOFFSETTO:-0500
TZNAME:EST
DTSTART:20261101T060000
END:STANDARD
BEGIN:DAYLIGHT
TZOFFSETFROM:-0500
TZOFFSETTO:-0400
TZNAME:EDT
DTSTART:20270314T070000
END:DAYLIGHT
BEGIN:STANDARD
TZOFFSETFROM:-0400
TZOFFSETTO:-0500
TZNAME:EST
DTSTART:20271107T060000
END:STANDARD
END:VTIMEZONE
BEGIN:VEVENT
DTSTART;TZID=America/New_York:20260309T150000
DTEND;TZID=America/New_York:20260309T160000
DTSTAMP:20260422T114725
CREATED:20260212T201307Z
LAST-MODIFIED:20260212T213800Z
UID:22168-1773068400-1773072000@wcpl.org
SUMMARY:10 Warning Signs of Alzheimer’s Disease 
DESCRIPTION:Join us for an informational session focusing on the 10 earning signs of Alzheimer’s Disease. Presented in partnership with the Alzheimer’s Association. Call 919-735-1824 ext 5100 to register. \n 
URL:https://wcpl.org/event/10-warning-signs-of-alzheimers-disease/
LOCATION:Wayne County Public Library – Goldsboro\, 1001 E Ash Street\, Goldsboro\, NC\, 27530\, United States
CATEGORIES:Adult,Goldsboro
END:VEVENT
BEGIN:VEVENT
DTSTART;TZID=America/New_York:20260309T173000
DTEND;TZID=America/New_York:20260309T190000
DTSTAMP:20260422T114725
CREATED:20260212T201439Z
LAST-MODIFIED:20260212T213733Z
UID:22170-1773077400-1773082800@wcpl.org
SUMMARY:Adult Crafting: Garden Stakes 
DESCRIPTION:Welcome spring and create your own beautiful garden stake! Registration required. Call 919-735-1824 ext 5100 to register. \n 
URL:https://wcpl.org/event/adult-crafting-garden-stakes/
LOCATION:Wayne County Public Library – Goldsboro\, 1001 E Ash Street\, Goldsboro\, NC\, 27530\, United States
CATEGORIES:Adult,Goldsboro
END:VEVENT
END:VCALENDAR