BEGIN:VCALENDAR
VERSION:2.0
PRODID:-//Wayne County Public Library - ECPv6.15.20//NONSGML v1.0//EN
CALSCALE:GREGORIAN
METHOD:PUBLISH
X-WR-CALNAME:Wayne County Public Library
X-ORIGINAL-URL:https://wcpl.org
X-WR-CALDESC:Events for Wayne County Public Library
REFRESH-INTERVAL;VALUE=DURATION:PT1H
X-Robots-Tag:noindex
X-PUBLISHED-TTL:PT1H
BEGIN:VTIMEZONE
TZID:America/New_York
BEGIN:DAYLIGHT
TZOFFSETFROM:-0500
TZOFFSETTO:-0400
TZNAME:EDT
DTSTART:20240310T070000
END:DAYLIGHT
BEGIN:STANDARD
TZOFFSETFROM:-0400
TZOFFSETTO:-0500
TZNAME:EST
DTSTART:20241103T060000
END:STANDARD
BEGIN:DAYLIGHT
TZOFFSETFROM:-0500
TZOFFSETTO:-0400
TZNAME:EDT
DTSTART:20250309T070000
END:DAYLIGHT
BEGIN:STANDARD
TZOFFSETFROM:-0400
TZOFFSETTO:-0500
TZNAME:EST
DTSTART:20251102T060000
END:STANDARD
BEGIN:DAYLIGHT
TZOFFSETFROM:-0500
TZOFFSETTO:-0400
TZNAME:EDT
DTSTART:20260308T070000
END:DAYLIGHT
BEGIN:STANDARD
TZOFFSETFROM:-0400
TZOFFSETTO:-0500
TZNAME:EST
DTSTART:20261101T060000
END:STANDARD
END:VTIMEZONE
BEGIN:VEVENT
DTSTART;TZID=America/New_York:20251119T100000
DTEND;TZID=America/New_York:20251119T130000
DTSTAMP:20260422T174522
CREATED:20251009T200112Z
LAST-MODIFIED:20251009T200112Z
UID:20666-1763546400-1763557200@wcpl.org
SUMMARY:Open Makerspace Hours  (Steele Mem.)
DESCRIPTION:Bring your own supplies and use our makerspace tools – Cricut\, sewing\, knitting\, crochet – on our big craft tables. \n 
URL:https://wcpl.org/event/open-makerspace-hours-steele-mem-21/
LOCATION:Steele Memorial Library\, 119 W Main St.\, Mt. Olive\, NC\, 28365\, United States
CATEGORIES:Adult,Steele Memorial
END:VEVENT
BEGIN:VEVENT
DTSTART;TZID=America/New_York:20251119T150000
DTEND;TZID=America/New_York:20251119T160000
DTSTAMP:20260422T174522
CREATED:20251008T172127Z
LAST-MODIFIED:20251008T172127Z
UID:20568-1763564400-1763568000@wcpl.org
SUMMARY:Cardio Drumming (Goldsboro)
DESCRIPTION:Join us for Cardio Drumming. Work up a sweat and get into a groovy rhythm! Call 919-735-1824 ext 5100 to register! \n 
URL:https://wcpl.org/event/cardio-drumming-goldsboro-17/
LOCATION:Wayne County Public Library – Goldsboro\, 1001 E Ash Street\, Goldsboro\, NC\, 27530\, United States
CATEGORIES:Adult,Goldsboro
END:VEVENT
BEGIN:VEVENT
DTSTART;TZID=America/New_York:20251119T160000
DTEND;TZID=America/New_York:20251119T180000
DTSTAMP:20260422T174522
CREATED:20251009T195439Z
LAST-MODIFIED:20251009T195439Z
UID:20660-1763568000-1763575200@wcpl.org
SUMMARY:Quilling Craft (Steele Mem.)
DESCRIPTION:We will be learning the basics of quilling\, a paper craft\, and creating a flower.  Please call 919-299-8105 ext. 5351 to register. \n 
URL:https://wcpl.org/event/quilling-craft-steele-mem-2/
LOCATION:Steele Memorial Library\, 119 W Main St.\, Mt. Olive\, NC\, 28365\, United States
CATEGORIES:Adult,Steele Memorial
END:VEVENT
BEGIN:VEVENT
DTSTART;TZID=America/New_York:20251119T183000
DTEND;TZID=America/New_York:20251119T193000
DTSTAMP:20260422T174522
CREATED:20251010T152656Z
LAST-MODIFIED:20251010T152656Z
UID:20715-1763577000-1763580600@wcpl.org
SUMMARY:Paint & Sip Coffee
DESCRIPTION:Paint a picture with us – all skill levels welcomed and encouraged! Registration required.  Please call (919) 735-1824 ext 5102 or email jamie.tyler@waynegov.com to register. \n 
URL:https://wcpl.org/event/paint-sip-coffee-3/
LOCATION:Wayne County Public Library – Goldsboro\, 1001 E Ash Street\, Goldsboro\, NC\, 27530\, United States
CATEGORIES:Adult,Goldsboro
END:VEVENT
END:VCALENDAR