BEGIN:VCALENDAR
VERSION:2.0
PRODID:-//Wayne County Public Library - ECPv6.15.20//NONSGML v1.0//EN
CALSCALE:GREGORIAN
METHOD:PUBLISH
X-WR-CALNAME:Wayne County Public Library
X-ORIGINAL-URL:https://wcpl.org
X-WR-CALDESC:Events for Wayne County Public Library
REFRESH-INTERVAL;VALUE=DURATION:PT1H
X-Robots-Tag:noindex
X-PUBLISHED-TTL:PT1H
BEGIN:VTIMEZONE
TZID:America/New_York
BEGIN:DAYLIGHT
TZOFFSETFROM:-0500
TZOFFSETTO:-0400
TZNAME:EDT
DTSTART:20240310T070000
END:DAYLIGHT
BEGIN:STANDARD
TZOFFSETFROM:-0400
TZOFFSETTO:-0500
TZNAME:EST
DTSTART:20241103T060000
END:STANDARD
BEGIN:DAYLIGHT
TZOFFSETFROM:-0500
TZOFFSETTO:-0400
TZNAME:EDT
DTSTART:20250309T070000
END:DAYLIGHT
BEGIN:STANDARD
TZOFFSETFROM:-0400
TZOFFSETTO:-0500
TZNAME:EST
DTSTART:20251102T060000
END:STANDARD
BEGIN:DAYLIGHT
TZOFFSETFROM:-0500
TZOFFSETTO:-0400
TZNAME:EDT
DTSTART:20260308T070000
END:DAYLIGHT
BEGIN:STANDARD
TZOFFSETFROM:-0400
TZOFFSETTO:-0500
TZNAME:EST
DTSTART:20261101T060000
END:STANDARD
END:VTIMEZONE
BEGIN:VEVENT
DTSTART;TZID=America/New_York:20250812T130000
DTEND;TZID=America/New_York:20250812T140000
DTSTAMP:20260422T230438
CREATED:20250709T121422Z
LAST-MODIFIED:20250709T121422Z
UID:19264-1755003600-1755007200@wcpl.org
SUMMARY:Cubist Still Life Painting
DESCRIPTION:Have you heard of the Cubist Art movement? Join us for a beginner friendly painting session to make your own Cubist still life with a twist. Registration required. Call 919-735-1824 Ext. 5100. \n 
URL:https://wcpl.org/event/cubist-still-life-painting/
LOCATION:Wayne County Public Library – Goldsboro\, 1001 E Ash Street\, Goldsboro\, NC\, 27530\, United States
CATEGORIES:Adult,Goldsboro
END:VEVENT
BEGIN:VEVENT
DTSTART;TZID=America/New_York:20250812T180000
DTEND;TZID=America/New_York:20250812T190000
DTSTAMP:20260422T230438
CREATED:20250709T121539Z
LAST-MODIFIED:20250709T121539Z
UID:19266-1755021600-1755025200@wcpl.org
SUMMARY:How to Crush A Job Interview
DESCRIPTION:You found the job you want\, and they called you for an interview. Join us and learn how to stand out! Call 919-735-1824 ext 5100 for more information. \n 
URL:https://wcpl.org/event/how-to-crush-a-job-interview/
LOCATION:Wayne County Public Library – Goldsboro\, 1001 E Ash Street\, Goldsboro\, NC\, 27530\, United States
CATEGORIES:Adult,Goldsboro
END:VEVENT
END:VCALENDAR