BEGIN:VCALENDAR
VERSION:2.0
PRODID:-//Wayne County Public Library - ECPv6.15.20//NONSGML v1.0//EN
CALSCALE:GREGORIAN
METHOD:PUBLISH
X-WR-CALNAME:Wayne County Public Library
X-ORIGINAL-URL:https://wcpl.org
X-WR-CALDESC:Events for Wayne County Public Library
REFRESH-INTERVAL;VALUE=DURATION:PT1H
X-Robots-Tag:noindex
X-PUBLISHED-TTL:PT1H
BEGIN:VTIMEZONE
TZID:America/New_York
BEGIN:DAYLIGHT
TZOFFSETFROM:-0500
TZOFFSETTO:-0400
TZNAME:EDT
DTSTART:20240310T070000
END:DAYLIGHT
BEGIN:STANDARD
TZOFFSETFROM:-0400
TZOFFSETTO:-0500
TZNAME:EST
DTSTART:20241103T060000
END:STANDARD
BEGIN:DAYLIGHT
TZOFFSETFROM:-0500
TZOFFSETTO:-0400
TZNAME:EDT
DTSTART:20250309T070000
END:DAYLIGHT
BEGIN:STANDARD
TZOFFSETFROM:-0400
TZOFFSETTO:-0500
TZNAME:EST
DTSTART:20251102T060000
END:STANDARD
BEGIN:DAYLIGHT
TZOFFSETFROM:-0500
TZOFFSETTO:-0400
TZNAME:EDT
DTSTART:20260308T070000
END:DAYLIGHT
BEGIN:STANDARD
TZOFFSETFROM:-0400
TZOFFSETTO:-0500
TZNAME:EST
DTSTART:20261101T060000
END:STANDARD
END:VTIMEZONE
BEGIN:VEVENT
DTSTART;TZID=America/New_York:20250503T100000
DTEND;TZID=America/New_York:20250503T113000
DTSTAMP:20260423T051847
CREATED:20250408T115845Z
LAST-MODIFIED:20250408T115845Z
UID:17435-1746266400-1746271800@wcpl.org
SUMMARY:Crafting with Karen
DESCRIPTION:Cutting board? Check.  Modpodge? Check.  Variety of Napkins? Check.  Come join us as we create the ultimate cutting board! Registration required\, call 919-735-1824 ext. 5100. \n 
URL:https://wcpl.org/event/crafting-with-karen-19/
LOCATION:Wayne County Public Library – Goldsboro\, 1001 E Ash Street\, Goldsboro\, NC\, 27530\, United States
CATEGORIES:Adult,Goldsboro
END:VEVENT
BEGIN:VEVENT
DTSTART;TZID=America/New_York:20250503T100000
DTEND;TZID=America/New_York:20250503T120000
DTSTAMP:20260423T051847
CREATED:20250403T211540Z
LAST-MODIFIED:20250403T211540Z
UID:17381-1746266400-1746273600@wcpl.org
SUMMARY:Historical Downtown Wagon Tour
DESCRIPTION:Come join us for an exciting historic wagon tour of downtown Mount Olive.  The tour will begin in front of the Town Hall.  Tickets for the ride are free and will be available at the library on April 28th.  Space is limited; you must come in person to get tickets. \n 
URL:https://wcpl.org/event/historical-downtown-wagon-tour/
LOCATION:NC
CATEGORIES:Adult,Steele Memorial
END:VEVENT
BEGIN:VEVENT
DTSTART;TZID=America/New_York:20250503T110000
DTEND;TZID=America/New_York:20250503T120000
DTSTAMP:20260423T051847
CREATED:20250408T142806Z
LAST-MODIFIED:20250408T142806Z
UID:17493-1746270000-1746273600@wcpl.org
SUMMARY:Books & Banter Book Club (Northern Wayne)
DESCRIPTION:Books & Banter – a space for Twentysomethings to explore literature\, express opinions\, and find a supportive network in an open and inclusive environment. Our discussions extend beyond just the plot\, we explore themes that resonate with life experiences\, such as career struggles\, relationships\, self-discovery\, and personal growth. Registration is required. Please call 919-705-1892 to register. \nThis month\, we’ll be discussing Lightlark by Alex Aster.
URL:https://wcpl.org/event/books-banter-book-club-northern-wayne-4/
LOCATION:Northern Wayne Library\, 609 S. Wilson St.\, Fremont\, NC\, 27830\, United States
CATEGORIES:Adult,Library Book Club,Northern Wayne Library
END:VEVENT
END:VCALENDAR