BEGIN:VCALENDAR
VERSION:2.0
PRODID:-//Wayne County Public Library - ECPv6.15.20//NONSGML v1.0//EN
CALSCALE:GREGORIAN
METHOD:PUBLISH
X-WR-CALNAME:Wayne County Public Library
X-ORIGINAL-URL:https://wcpl.org
X-WR-CALDESC:Events for Wayne County Public Library
REFRESH-INTERVAL;VALUE=DURATION:PT1H
X-Robots-Tag:noindex
X-PUBLISHED-TTL:PT1H
BEGIN:VTIMEZONE
TZID:America/New_York
BEGIN:DAYLIGHT
TZOFFSETFROM:-0500
TZOFFSETTO:-0400
TZNAME:EDT
DTSTART:20240310T070000
END:DAYLIGHT
BEGIN:STANDARD
TZOFFSETFROM:-0400
TZOFFSETTO:-0500
TZNAME:EST
DTSTART:20241103T060000
END:STANDARD
BEGIN:DAYLIGHT
TZOFFSETFROM:-0500
TZOFFSETTO:-0400
TZNAME:EDT
DTSTART:20250309T070000
END:DAYLIGHT
BEGIN:STANDARD
TZOFFSETFROM:-0400
TZOFFSETTO:-0500
TZNAME:EST
DTSTART:20251102T060000
END:STANDARD
BEGIN:DAYLIGHT
TZOFFSETFROM:-0500
TZOFFSETTO:-0400
TZNAME:EDT
DTSTART:20260308T070000
END:DAYLIGHT
BEGIN:STANDARD
TZOFFSETFROM:-0400
TZOFFSETTO:-0500
TZNAME:EST
DTSTART:20261101T060000
END:STANDARD
END:VTIMEZONE
BEGIN:VEVENT
DTSTART;TZID=America/New_York:20250602T100000
DTEND;TZID=America/New_York:20250602T110000
DTSTAMP:20260423T005400
CREATED:20250506T185132Z
LAST-MODIFIED:20250506T185132Z
UID:17936-1748858400-1748862000@wcpl.org
SUMMARY:Northern Wayne Inspirational Book Club
DESCRIPTION:Each month we will dive into stories of perseverance\, growth\, and transformation. Creating a space where readers come together to explore uplifting books\, and leave feeling motivated and inspired. This month we will be discussing “The Ark and the Dove” Written by Jill Eileen Smith.  Registration is required. Contact 919-705-1892. \n 
URL:https://wcpl.org/event/northern-wayne-inspirational-book-club-12/
LOCATION:Northern Wayne Library\, 609 S. Wilson St.\, Fremont\, NC\, 27830\, United States
CATEGORIES:Adult,Library Book Club,Northern Wayne Library
END:VEVENT
BEGIN:VEVENT
DTSTART;TZID=America/New_York:20250603T100000
DTEND;TZID=America/New_York:20250603T113000
DTSTAMP:20260423T005400
CREATED:20250506T184516Z
LAST-MODIFIED:20250506T184516Z
UID:17930-1748944800-1748950200@wcpl.org
SUMMARY:Northern Wayne Stitchers 
DESCRIPTION:The program is designed to create a relaxed\, welcoming environment where participants can focus on honing their craft while receiving the support they need to challenge themselves creatively. It’s an ideal opportunity for experienced stitchers to elevate their work\, troubleshoot projects\, and continue growing as artisans. Registration is required. Contact 919-705-1892. \n 
URL:https://wcpl.org/event/northern-wayne-stitchers-21/
LOCATION:Northern Wayne Library\, 609 S. Wilson St.\, Fremont\, NC\, 27830\, United States
CATEGORIES:Adult,Northern Wayne Library
END:VEVENT
BEGIN:VEVENT
DTSTART;TZID=America/New_York:20250604T100000
DTEND;TZID=America/New_York:20250604T130000
DTSTAMP:20260423T005400
CREATED:20250502T174435Z
LAST-MODIFIED:20250502T174848Z
UID:17867-1749031200-1749042000@wcpl.org
SUMMARY:Open Makerspace Hours  (Steele Mem.)
DESCRIPTION:Bring your own supplies and use our makerspace tools – Cricut\, sewing\, knitting\, crochet – on our big craft tables. \n 
URL:https://wcpl.org/event/open-makerspace-hours-steele-mem-128/
LOCATION:Steele Memorial Library\, 119 W Main St.\, Mt. Olive\, NC\, 28365\, United States
CATEGORIES:Adult,Steele Memorial
END:VEVENT
BEGIN:VEVENT
DTSTART;TZID=America/New_York:20250604T140000
DTEND;TZID=America/New_York:20250604T150000
DTSTAMP:20260423T005400
CREATED:20250507T181550Z
LAST-MODIFIED:20250507T181550Z
UID:17948-1749045600-1749049200@wcpl.org
SUMMARY:From the Archive: The Eleanor Bizzell Powell Papers 
DESCRIPTION:Join us for our From the Archive program! We will discuss the process of acquiring and managing our local history collection\, and attendees will have an opportunity to dig deeper into one of our many special collections—the Eleanor Bizzell Powell Papers.  Space is limited. Call 919-735-1824 ext 1830 to register. \n 
URL:https://wcpl.org/event/from-the-archive-the-eleanor-bizzell-powell-papers/
LOCATION:Wayne County Public Library – Goldsboro\, 1001 E Ash Street\, Goldsboro\, NC\, 27530\, United States
CATEGORIES:Adult,Goldsboro,Local History
END:VEVENT
BEGIN:VEVENT
DTSTART;TZID=America/New_York:20250605T150000
DTEND;TZID=America/New_York:20250605T160000
DTSTAMP:20260423T005400
CREATED:20250502T164606Z
LAST-MODIFIED:20250502T164606Z
UID:17849-1749135600-1749139200@wcpl.org
SUMMARY:Cardio Drumming (Steele Mem.)
DESCRIPTION:Cardio drumming is an adult class that brings together drumsticks\, an exercise ball\, and stand to create one of the most fun workouts you’ll ever do.  Please call 919-299-8105 ext. 5351 to register. \n 
URL:https://wcpl.org/event/cardio-drumming-steele-mem-53/
LOCATION:Steele Memorial Library\, 119 W Main St.\, Mt. Olive\, NC\, 28365\, United States
CATEGORIES:Adult,Steele Memorial
END:VEVENT
BEGIN:VEVENT
DTSTART;TZID=America/New_York:20250605T150000
DTEND;TZID=America/New_York:20250605T160000
DTSTAMP:20260423T005400
CREATED:20250507T182014Z
LAST-MODIFIED:20250507T182014Z
UID:17950-1749135600-1749139200@wcpl.org
SUMMARY:Awkward Art
DESCRIPTION:Join us as we make some silly arts and crafts for fun! Call 919-735-1824 ext 5100 to register. \n 
URL:https://wcpl.org/event/awkward-art/
LOCATION:Wayne County Public Library – Goldsboro\, 1001 E Ash Street\, Goldsboro\, NC\, 27530\, United States
CATEGORIES:Adult,Children,Family,Goldsboro,Teens
END:VEVENT
BEGIN:VEVENT
DTSTART;TZID=America/New_York:20250605T170000
DTEND;TZID=America/New_York:20250605T180000
DTSTAMP:20260423T005400
CREATED:20250502T180207Z
LAST-MODIFIED:20250502T180207Z
UID:17883-1749142800-1749146400@wcpl.org
SUMMARY:Our Favorite Reads Book Club 
DESCRIPTION:Join the conversation at a meeting of Our Favorite Reads book club. Share what you are reading and get recommendations from other members. Registration is suggested. Call 919-735-1824 ext 5100 for more information. \n 
URL:https://wcpl.org/event/our-favorite-reads-book-club-18/
LOCATION:Wayne County Public Library – Goldsboro\, 1001 E Ash Street\, Goldsboro\, NC\, 27530\, United States
CATEGORIES:Adult,Goldsboro,Library Book Club
END:VEVENT
BEGIN:VEVENT
DTSTART;TZID=America/New_York:20250606T130000
DTEND;TZID=America/New_York:20250606T160000
DTSTAMP:20260423T005400
CREATED:20250502T175017Z
LAST-MODIFIED:20250502T175017Z
UID:17875-1749214800-1749225600@wcpl.org
SUMMARY:Open Makerspace Hours  (Steele Mem.)
DESCRIPTION:Bring your own supplies and use our makerspace tools – Cricut\, sewing\, knitting\, crochet – on our big craft tables. \n 
URL:https://wcpl.org/event/open-makerspace-hours-steele-mem-132/
LOCATION:Steele Memorial Library\, 119 W Main St.\, Mt. Olive\, NC\, 28365\, United States
CATEGORIES:Adult,Steele Memorial
END:VEVENT
BEGIN:VEVENT
DTSTART;TZID=America/New_York:20250607T110000
DTEND;TZID=America/New_York:20250607T120000
DTSTAMP:20260423T005400
CREATED:20250506T184915Z
LAST-MODIFIED:20250506T184915Z
UID:17934-1749294000-1749297600@wcpl.org
SUMMARY:Books & Banter Book Club (Northern Wayne)
DESCRIPTION:Books & Banter serves as a fun and relaxed social opportunity to connect with peers\, make new friends\, and create a sense of community.  It’s a space for twentysomethings to explore literature\, express opinions\, and find a supportive network in an open and inclusive environment. Our discussions extend beyond just the plot\, we explore themes that resonate with the life experiences of young adults\, such as career struggles\, relationships\, self-discovery\, and personal growth. Registration is required. Contact 919-705-1892. \n 
URL:https://wcpl.org/event/books-banter-book-club-northern-wayne-5/
LOCATION:Northern Wayne Library\, 609 S. Wilson St.\, Fremont\, NC\, 27830\, United States
CATEGORIES:Adult,Library Book Club,Northern Wayne Library
END:VEVENT
BEGIN:VEVENT
DTSTART;TZID=America/New_York:20250609T100000
DTEND;TZID=America/New_York:20250609T110000
DTSTAMP:20260423T005400
CREATED:20250502T165042Z
LAST-MODIFIED:20250502T165042Z
UID:17855-1749463200-1749466800@wcpl.org
SUMMARY:Morning Meditations (Steele Mem.)
DESCRIPTION:We will be stretching for 20-30 minutes for flexibility and then doing some Zen tangles for relaxation. Please call 919 299-8105 ext. 5351 to register. \n 
URL:https://wcpl.org/event/morning-meditations-steele-mem-5/
LOCATION:Steele Memorial Library\, 119 W Main St.\, Mt. Olive\, NC\, 28365\, United States
CATEGORIES:Adult,Steele Memorial
END:VEVENT
BEGIN:VEVENT
DTSTART;TZID=America/New_York:20250610T160000
DTEND;TZID=America/New_York:20250610T170000
DTSTAMP:20260423T005400
CREATED:20250507T182238Z
LAST-MODIFIED:20250507T182238Z
UID:17952-1749571200-1749574800@wcpl.org
SUMMARY:Family History Show and Tell 
DESCRIPTION:Join us for an afternoon of sharing memories and stories! Do you have a historic family photo or heirloom you think everyone should see? Now is your time to share! Bring a historic photo or other family treasure to share with the group. Limit one item per person. Space is limited\, registration required. Call 919-735-1824 ext 1830. \n 
URL:https://wcpl.org/event/family-history-show-and-tell-2/
LOCATION:Wayne County Public Library – Goldsboro\, 1001 E Ash Street\, Goldsboro\, NC\, 27530\, United States
CATEGORIES:Adult,Goldsboro,Local History
END:VEVENT
BEGIN:VEVENT
DTSTART;TZID=America/New_York:20250610T173000
DTEND;TZID=America/New_York:20250610T183000
DTSTAMP:20260423T005400
CREATED:20250507T182928Z
LAST-MODIFIED:20250507T182928Z
UID:17954-1749576600-1749580200@wcpl.org
SUMMARY:Goldsboro Cross Stitchers 
DESCRIPTION:Join the Goldsboro Cross Stitchers! Connect with other people who enjoy cross stitch and learn new tips and tricks! Call 919-735-1824 Ext 5100 to register or for more information. \n 
URL:https://wcpl.org/event/goldsboro-cross-stitchers-5/
LOCATION:Wayne County Public Library – Goldsboro\, 1001 E Ash Street\, Goldsboro\, NC\, 27530\, United States
CATEGORIES:Adult,Goldsboro
END:VEVENT
BEGIN:VEVENT
DTSTART;TZID=America/New_York:20250611T100000
DTEND;TZID=America/New_York:20250611T130000
DTSTAMP:20260423T005400
CREATED:20250502T174536Z
LAST-MODIFIED:20250502T174828Z
UID:17869-1749636000-1749646800@wcpl.org
SUMMARY:Open Makerspace Hours  (Steele Mem.)
DESCRIPTION:Bring your own supplies and use our makerspace tools – Cricut\, sewing\, knitting\, crochet – on our big craft tables. \n 
URL:https://wcpl.org/event/open-makerspace-hours-steele-mem-129/
LOCATION:Steele Memorial Library\, 119 W Main St.\, Mt. Olive\, NC\, 28365\, United States
CATEGORIES:Adult,Steele Memorial
END:VEVENT
BEGIN:VEVENT
DTSTART;TZID=America/New_York:20250611T103000
DTEND;TZID=America/New_York:20250611T113000
DTSTAMP:20260423T005400
CREATED:20250507T183057Z
LAST-MODIFIED:20250507T183057Z
UID:17956-1749637800-1749641400@wcpl.org
SUMMARY:Medicare Basics 
DESCRIPTION:Join Gail Jones from the Senior Health Insurance Information Program to get information and your questions answered about Medicare. Registration is suggested\, so call 919-735-1824 ext 5100 to sign up or for more information. \n 
URL:https://wcpl.org/event/medicare-basics/
LOCATION:Wayne County Public Library – Goldsboro\, 1001 E Ash Street\, Goldsboro\, NC\, 27530\, United States
CATEGORIES:Adult,Goldsboro
END:VEVENT
BEGIN:VEVENT
DTSTART;TZID=America/New_York:20250611T150000
DTEND;TZID=America/New_York:20250611T160000
DTSTAMP:20260423T005400
CREATED:20250507T183251Z
LAST-MODIFIED:20250507T183251Z
UID:17958-1749654000-1749657600@wcpl.org
SUMMARY:Cardio Drumming  (Goldsboro)
DESCRIPTION:Get into a groovy rhythm! Join us for Cardio Drumming! Registration required\, spots limited – call 919-735-1824 x5100. \n 
URL:https://wcpl.org/event/cardio-drumming-goldsboro-7/
LOCATION:Wayne County Public Library – Goldsboro\, 1001 E Ash Street\, Goldsboro\, NC\, 27530\, United States
CATEGORIES:Adult,Goldsboro
END:VEVENT
BEGIN:VEVENT
DTSTART;TZID=America/New_York:20250611T180000
DTEND;TZID=America/New_York:20250611T190000
DTSTAMP:20260423T005400
CREATED:20250507T183605Z
LAST-MODIFIED:20250507T183605Z
UID:17962-1749664800-1749668400@wcpl.org
SUMMARY:Wellness Wednesday: Alzheimer’s Resources 
DESCRIPTION:Join us for our monthly Wellness Wednesday series! This month\, Sylvia Judd from UNC Health Wayne will join us to discuss tips and resources focusing on Alzheimer’s Disease. Call 919-735-1824 Ext 5100 to register or for more information. \n 
URL:https://wcpl.org/event/wellness-wednesday-alzheimers-resources/
LOCATION:Wayne County Public Library – Goldsboro\, 1001 E Ash Street\, Goldsboro\, NC\, 27530\, United States
CATEGORIES:Adult,Goldsboro
END:VEVENT
BEGIN:VEVENT
DTSTART;TZID=America/New_York:20250612T150000
DTEND;TZID=America/New_York:20250612T160000
DTSTAMP:20260423T005400
CREATED:20250502T165600Z
LAST-MODIFIED:20250502T165600Z
UID:17859-1749740400-1749744000@wcpl.org
SUMMARY:The Summertime Book Club (Steele Mem.)
DESCRIPTION:We will be discussing The Talented Miss Farwell by Emily Gray Tedrowe.  Please call 919-299-8105 ext. 5351 to register. \n 
URL:https://wcpl.org/event/the-summertime-book-club-steele-mem/
LOCATION:Steele Memorial Library\, 119 W Main St.\, Mt. Olive\, NC\, 28365\, United States
CATEGORIES:Adult,Library Book Club,Steele Memorial
END:VEVENT
BEGIN:VEVENT
DTSTART;TZID=America/New_York:20250612T150000
DTEND;TZID=America/New_York:20250612T160000
DTSTAMP:20260423T005400
CREATED:20250507T183739Z
LAST-MODIFIED:20250507T183739Z
UID:17964-1749740400-1749744000@wcpl.org
SUMMARY:Tech for Older Adults 
DESCRIPTION:Are you an older adult who has questions about technology? Whether you want to learn how to create Word documents or recover a password\, we can help! Join our staff and Mary Shands\, a retired office administrator\, to learn some basics and get your questions answered. To register\, call 919-735-1824 ext. 5100. \n 
URL:https://wcpl.org/event/tech-for-older-adults-4/
LOCATION:Wayne County Public Library – Goldsboro\, 1001 E Ash Street\, Goldsboro\, NC\, 27530\, United States
CATEGORIES:Adult,Goldsboro
END:VEVENT
BEGIN:VEVENT
DTSTART;TZID=America/New_York:20250612T180000
DTEND;TZID=America/New_York:20250612T190000
DTSTAMP:20260423T005400
CREATED:20250507T183916Z
LAST-MODIFIED:20250507T183916Z
UID:17966-1749751200-1749754800@wcpl.org
SUMMARY:Parchment to Pixels 
DESCRIPTION:Contribute to your county’s history! Join us in the Local History Room to transcribe historical documents from the Eleanor Bizzell Powell collection. Bring your own laptop or use one of ours. Call 935-1824 ext 1830 for more information. \n 
URL:https://wcpl.org/event/parchment-to-pixels-2/
LOCATION:Wayne County Public Library – Goldsboro\, 1001 E Ash Street\, Goldsboro\, NC\, 27530\, United States
CATEGORIES:Adult,Goldsboro,Local History
END:VEVENT
BEGIN:VEVENT
DTSTART;TZID=America/New_York:20250612T180000
DTEND;TZID=America/New_York:20250612T193000
DTSTAMP:20260423T005400
CREATED:20250502T165754Z
LAST-MODIFIED:20250502T165754Z
UID:17861-1749751200-1749756600@wcpl.org
SUMMARY:Madan Sara Film (Steele Mem.)
DESCRIPTION:Madan Sara is a film from Haitian journalist\, Etant Dupain\, about the informal status of women in Haitian society and their importance to the functioning of that same society.  Q & A with one of the Executive Producers of the film will follow.  Please call 919-299-8105 ext. 5351 to register. \n 
URL:https://wcpl.org/event/madan-sara-film-steele-mem/
LOCATION:Steele Memorial Library\, 119 W Main St.\, Mt. Olive\, NC\, 28365\, United States
CATEGORIES:Adult,Steele Memorial
END:VEVENT
BEGIN:VEVENT
DTSTART;TZID=America/New_York:20250613T130000
DTEND;TZID=America/New_York:20250613T160000
DTSTAMP:20260423T005400
CREATED:20250502T175119Z
LAST-MODIFIED:20250502T175119Z
UID:17877-1749819600-1749830400@wcpl.org
SUMMARY:Open Makerspace Hours  (Steele Mem.)
DESCRIPTION:Bring your own supplies and use our makerspace tools – Cricut\, sewing\, knitting\, crochet – on our big craft tables. \n 
URL:https://wcpl.org/event/open-makerspace-hours-steele-mem-133/
LOCATION:Steele Memorial Library\, 119 W Main St.\, Mt. Olive\, NC\, 28365\, United States
CATEGORIES:Adult,Steele Memorial
END:VEVENT
BEGIN:VEVENT
DTSTART;TZID=America/New_York:20250614T100000
DTEND;TZID=America/New_York:20250614T113000
DTSTAMP:20260423T005400
CREATED:20250501T175323Z
LAST-MODIFIED:20250501T175415Z
UID:17846-1749895200-1749900600@wcpl.org
SUMMARY:Crafting with Karen
DESCRIPTION:Make a beautiful candle holder using pressed flowers and a small glass jar! Call 919-735-1824 ext. 5100 to register. \n 
URL:https://wcpl.org/event/crafting-with-karen/
LOCATION:Wayne County Public Library – Goldsboro\, 1001 E Ash Street\, Goldsboro\, NC\, 27530\, United States
CATEGORIES:Adult,Goldsboro
END:VEVENT
BEGIN:VEVENT
DTSTART;TZID=America/New_York:20250614T143000
DTEND;TZID=America/New_York:20250614T160000
DTSTAMP:20260423T005400
CREATED:20250507T184150Z
LAST-MODIFIED:20250507T184150Z
UID:17968-1749911400-1749916800@wcpl.org
SUMMARY:Making Zines  (Goldsboro)
DESCRIPTION:Join us in the auditorium for a zine making session! You have the option to make a zine by hand or using Canva. Materials will be provided\, but feel free to bring your own for a personal touch. Call 919-735-1824 ext 5100 to register.   For all ages. \n 
URL:https://wcpl.org/event/making-zines-goldsboro/
LOCATION:Wayne County Public Library – Goldsboro\, 1001 E Ash Street\, Goldsboro\, NC\, 27530\, United States
CATEGORIES:Adult,Children,Goldsboro,Teens,Tweens
END:VEVENT
BEGIN:VEVENT
DTSTART;TZID=America/New_York:20250617T100000
DTEND;TZID=America/New_York:20250617T113000
DTSTAMP:20260423T005400
CREATED:20250506T184638Z
LAST-MODIFIED:20250506T184638Z
UID:17932-1750154400-1750159800@wcpl.org
SUMMARY:Northern Wayne Stitchers 
DESCRIPTION:The program is designed to create a relaxed\, welcoming environment where participants can focus on honing their craft while receiving the support they need to challenge themselves creatively. It’s an ideal opportunity for experienced stitchers to elevate their work\, troubleshoot projects\, and continue growing as artisans. Registration is required. Contact 919-705-1892. \n 
URL:https://wcpl.org/event/northern-wayne-stitchers-22/
LOCATION:Northern Wayne Library\, 609 S. Wilson St.\, Fremont\, NC\, 27830\, United States
CATEGORIES:Adult,Northern Wayne Library
END:VEVENT
BEGIN:VEVENT
DTSTART;TZID=America/New_York:20250617T160000
DTEND;TZID=America/New_York:20250617T170000
DTSTAMP:20260423T005400
CREATED:20250507T184322Z
LAST-MODIFIED:20250507T184322Z
UID:17970-1750176000-1750179600@wcpl.org
SUMMARY:Digitization Workshop 
DESCRIPTION:Join us for an informational session about the best practices for digitizing historic documents and photos. We will practice digitizing on our archival scanner\, so bring a photograph or document to scan! Limit 3 items per person. Space is limited\, registration required. Call 919-735-1824 ext 1830.
URL:https://wcpl.org/event/digitization-workshop-6/
LOCATION:Wayne County Public Library – Goldsboro\, 1001 E Ash Street\, Goldsboro\, NC\, 27530\, United States
CATEGORIES:Adult,Goldsboro,Local History
END:VEVENT
BEGIN:VEVENT
DTSTART;TZID=America/New_York:20250617T180000
DTEND;TZID=America/New_York:20250617T190000
DTSTAMP:20260423T005400
CREATED:20250507T184454Z
LAST-MODIFIED:20250507T184454Z
UID:17972-1750183200-1750186800@wcpl.org
SUMMARY:How to Find (and Land) Your Next Job 
DESCRIPTION:Are you currently looking for a new job? Dissatisfied with your current job? Having trouble finding a job you like? Come join us to learn how to find and land your next job! Call 919-735-1824 ext 5100 to register. \n 
URL:https://wcpl.org/event/how-to-find-and-land-your-next-job/
LOCATION:Wayne County Public Library – Goldsboro\, 1001 E Ash Street\, Goldsboro\, NC\, 27530\, United States
CATEGORIES:Adult,Goldsboro
END:VEVENT
BEGIN:VEVENT
DTSTART;TZID=America/New_York:20250618T100000
DTEND;TZID=America/New_York:20250618T130000
DTSTAMP:20260423T005400
CREATED:20250502T174637Z
LAST-MODIFIED:20250502T174810Z
UID:17871-1750240800-1750251600@wcpl.org
SUMMARY:Open Makerspace Hours  (Steele Mem.)
DESCRIPTION:Bring your own supplies and use our makerspace tools – Cricut\, sewing\, knitting\, crochet – on our big craft tables. \n 
URL:https://wcpl.org/event/open-makerspace-hours-steele-mem-130/
LOCATION:Steele Memorial Library\, 119 W Main St.\, Mt. Olive\, NC\, 28365\, United States
CATEGORIES:Adult,Steele Memorial
END:VEVENT
BEGIN:VEVENT
DTSTART;TZID=America/New_York:20250618T150000
DTEND;TZID=America/New_York:20250618T163000
DTSTAMP:20260423T005400
CREATED:20250502T165930Z
LAST-MODIFIED:20250502T165930Z
UID:17863-1750258800-1750264200@wcpl.org
SUMMARY:Paint Like Alma Woodsey Thomas (Steele Mem.)
DESCRIPTION:We will learn a simple painting technique along with a bit of art history.  Please call 919-299-8105 ext. 5351 to register. \n 
URL:https://wcpl.org/event/paint-like-alma-woodsey-thomas-steele-mem/
LOCATION:Steele Memorial Library\, 119 W Main St.\, Mt. Olive\, NC\, 28365\, United States
CATEGORIES:Adult,Steele Memorial
END:VEVENT
BEGIN:VEVENT
DTSTART;TZID=America/New_York:20250618T170000
DTEND;TZID=America/New_York:20250618T190000
DTSTAMP:20260423T005400
CREATED:20250507T184628Z
LAST-MODIFIED:20250507T184628Z
UID:17974-1750266000-1750273200@wcpl.org
SUMMARY:Documentary Night 
DESCRIPTION:Join us for a screening of the PBS documentary film Making Black America. Call 919-735-1824 ext 1830 for more information. \n 
URL:https://wcpl.org/event/documentary-night-2/
LOCATION:Wayne County Public Library – Goldsboro\, 1001 E Ash Street\, Goldsboro\, NC\, 27530\, United States
CATEGORIES:Adult,Goldsboro,Local History
END:VEVENT
BEGIN:VEVENT
DTSTART;TZID=America/New_York:20250619T150000
DTEND;TZID=America/New_York:20250619T160000
DTSTAMP:20260423T005400
CREATED:20250502T164747Z
LAST-MODIFIED:20250502T164747Z
UID:17851-1750345200-1750348800@wcpl.org
SUMMARY:Cardio Drumming (Steele Mem.)
DESCRIPTION:Cardio drumming is an adult class that brings together drumsticks\, an exercise ball\, and stand to create one of the most fun workouts you’ll ever do.  Please call 919-299-8105 ext. 5351 to register. \n 
URL:https://wcpl.org/event/cardio-drumming-steele-mem-56/
LOCATION:Steele Memorial Library\, 119 W Main St.\, Mt. Olive\, NC\, 28365\, United States
CATEGORIES:Adult,Steele Memorial
END:VEVENT
END:VCALENDAR