BEGIN:VCALENDAR
VERSION:2.0
PRODID:-//Wayne County Public Library - ECPv6.15.20//NONSGML v1.0//EN
CALSCALE:GREGORIAN
METHOD:PUBLISH
X-ORIGINAL-URL:https://wcpl.org
X-WR-CALDESC:Events for Wayne County Public Library
REFRESH-INTERVAL;VALUE=DURATION:PT1H
X-Robots-Tag:noindex
X-PUBLISHED-TTL:PT1H
BEGIN:VTIMEZONE
TZID:America/New_York
BEGIN:DAYLIGHT
TZOFFSETFROM:-0500
TZOFFSETTO:-0400
TZNAME:EDT
DTSTART:20240310T070000
END:DAYLIGHT
BEGIN:STANDARD
TZOFFSETFROM:-0400
TZOFFSETTO:-0500
TZNAME:EST
DTSTART:20241103T060000
END:STANDARD
BEGIN:DAYLIGHT
TZOFFSETFROM:-0500
TZOFFSETTO:-0400
TZNAME:EDT
DTSTART:20250309T070000
END:DAYLIGHT
BEGIN:STANDARD
TZOFFSETFROM:-0400
TZOFFSETTO:-0500
TZNAME:EST
DTSTART:20251102T060000
END:STANDARD
BEGIN:DAYLIGHT
TZOFFSETFROM:-0500
TZOFFSETTO:-0400
TZNAME:EDT
DTSTART:20260308T070000
END:DAYLIGHT
BEGIN:STANDARD
TZOFFSETFROM:-0400
TZOFFSETTO:-0500
TZNAME:EST
DTSTART:20261101T060000
END:STANDARD
END:VTIMEZONE
BEGIN:VEVENT
DTSTART;TZID=America/New_York:20250206T180000
DTEND;TZID=America/New_York:20250206T193000
DTSTAMP:20260423T075732
CREATED:20250108T214008Z
LAST-MODIFIED:20250108T214008Z
UID:15974-1738864800-1738870200@wcpl.org
SUMMARY:Memory Night: Love Through the Ages 
DESCRIPTION:We are searching for memories and stories of those who have lived and loved in Wayne County! Do you have wedding photos from your great grandparents or a love story based in our community? We would love to hear from you. Drop in and share your memories with us in the Local History Room! We will collect your stories and help digitize photos for an upcoming digital project about the love stories of Wayne County. Call 919-705-1830 for more information. \n 
URL:https://wcpl.org/event/memory-night-love-through-the-ages/
LOCATION:Wayne County Public Library – Goldsboro\, 1001 E Ash Street\, Goldsboro\, NC\, 27530\, United States
CATEGORIES:Adult,Goldsboro,Local History
END:VEVENT
BEGIN:VEVENT
DTSTART;TZID=America/New_York:20250207T130000
DTEND;TZID=America/New_York:20250207T160000
DTSTAMP:20260423T075732
CREATED:20250110T200522Z
LAST-MODIFIED:20250110T200522Z
UID:16048-1738933200-1738944000@wcpl.org
SUMMARY:Open Makerspace Hours (Steele Mem.)
DESCRIPTION:Bring your own supplies and use our makerspace tools – Cricut\, sewing\, knitting\, crochet – on our big craft tables. \n 
URL:https://wcpl.org/event/open-makerspace-hours-steele-mem-99/
LOCATION:Steele Memorial Library\, 119 W Main St.\, Mt. Olive\, NC\, 28365\, United States
CATEGORIES:Adult,Steele Memorial
END:VEVENT
BEGIN:VEVENT
DTSTART;TZID=America/New_York:20250212T100000
DTEND;TZID=America/New_York:20250212T130000
DTSTAMP:20260423T075732
CREATED:20250110T195623Z
LAST-MODIFIED:20250110T195623Z
UID:16042-1739354400-1739365200@wcpl.org
SUMMARY:Open Makerspace Hours (Steele Mem.)
DESCRIPTION:Bring your own supplies and use our makerspace tools – Cricut\, sewing\, knitting\, crochet – on our big craft tables. \n 
URL:https://wcpl.org/event/open-makerspace-hours-steele-mem-96/
LOCATION:Steele Memorial Library\, 119 W Main St.\, Mt. Olive\, NC\, 28365\, United States
CATEGORIES:Adult,Steele Memorial
END:VEVENT
BEGIN:VEVENT
DTSTART;TZID=America/New_York:20250213T150000
DTEND;TZID=America/New_York:20250213T160000
DTSTAMP:20260423T075732
CREATED:20250110T193935Z
LAST-MODIFIED:20250110T193935Z
UID:16030-1739458800-1739462400@wcpl.org
SUMMARY:The Page Turner’s Book Club  (Steele Mem.)
DESCRIPTION:We will be discussing The Family by Naomi Krupitsky.  Please call 919-299-8105 ext. 5351 to register. \n 
URL:https://wcpl.org/event/the-page-turners-book-club-steele-mem-11/
LOCATION:Steele Memorial Library\, 119 W Main St.\, Mt. Olive\, NC\, 28365\, United States
CATEGORIES:Adult,Library Book Club,Steele Memorial
END:VEVENT
BEGIN:VEVENT
DTSTART;TZID=America/New_York:20250214T130000
DTEND;TZID=America/New_York:20250214T160000
DTSTAMP:20260423T075732
CREATED:20250110T200748Z
LAST-MODIFIED:20250110T200748Z
UID:16050-1739538000-1739548800@wcpl.org
SUMMARY:Open Makerspace Hours (Steele Mem.)
DESCRIPTION:Bring your own supplies and use our makerspace tools – Cricut\, sewing\, knitting\, crochet – on our big craft tables. \n 
URL:https://wcpl.org/event/open-makerspace-hours-steele-mem-100/
LOCATION:Steele Memorial Library\, 119 W Main St.\, Mt. Olive\, NC\, 28365\, United States
CATEGORIES:Adult,Steele Memorial
END:VEVENT
BEGIN:VEVENT
DTSTART;TZID=America/New_York:20250217T143000
DTEND;TZID=America/New_York:20250217T160000
DTSTAMP:20260423T075732
CREATED:20250113T184105Z
LAST-MODIFIED:20250113T184105Z
UID:16098-1739802600-1739808000@wcpl.org
SUMMARY:Why Knot?  
DESCRIPTION:Join a group of knitters and crocheters for an hour of fun and friendship! All experience levels welcome. This program is not led by an instructor\, but we will learn from each other as we work on our projects. \nBeginners should bring size 7 or 8 knitting needles or a size J or K crochet hook and a ball of worsted weight yarn to begin their crafty journey. \n 
URL:https://wcpl.org/event/why-knot-15/
LOCATION:Wayne County Public Library – Goldsboro\, 1001 E Ash Street\, Goldsboro\, NC\, 27530\, United States
CATEGORIES:Adult,Goldsboro
END:VEVENT
BEGIN:VEVENT
DTSTART;TZID=America/New_York:20250218T093000
DTEND;TZID=America/New_York:20250218T103000
DTSTAMP:20260423T075732
CREATED:20250113T180512Z
LAST-MODIFIED:20250113T180512Z
UID:16062-1739871000-1739874600@wcpl.org
SUMMARY:Northern Wayne Stitchers
DESCRIPTION:Working with an experienced instructor in sewing and quilting. All skill levels are welcome\, and we can learn from each other.  Please call 919-705-1892 to register. \n 
URL:https://wcpl.org/event/northern-wayne-stitchers-14/
LOCATION:Northern Wayne Library\, 609 S. Wilson St.\, Fremont\, NC\, 27830\, United States
CATEGORIES:Adult,Northern Wayne Library
END:VEVENT
BEGIN:VEVENT
DTSTART;TZID=America/New_York:20250218T173000
DTEND;TZID=America/New_York:20250218T193000
DTSTAMP:20260423T075732
CREATED:20250108T214222Z
LAST-MODIFIED:20250108T214222Z
UID:15976-1739899800-1739907000@wcpl.org
SUMMARY:Goldsboro Cross Stitchers 
DESCRIPTION:Join the Goldsboro Cross Stitchers! Connect with other people who enjoy cross stitch and learn new tips and tricks. Call 919-735-1824 ext 5100 to register or for more information. \n 
URL:https://wcpl.org/event/goldsboro-cross-stitchers/
LOCATION:Wayne County Public Library – Goldsboro\, 1001 E Ash Street\, Goldsboro\, NC\, 27530\, United States
CATEGORIES:Adult,Goldsboro
END:VEVENT
BEGIN:VEVENT
DTSTART;TZID=America/New_York:20250219T100000
DTEND;TZID=America/New_York:20250219T130000
DTSTAMP:20260423T075732
CREATED:20250110T195833Z
LAST-MODIFIED:20250110T195833Z
UID:16044-1739959200-1739970000@wcpl.org
SUMMARY:Open Makerspace Hours (Steele Mem.)
DESCRIPTION:Bring your own supplies and use our makerspace tools – Cricut\, sewing\, knitting\, crochet – on our big craft tables. \n 
URL:https://wcpl.org/event/open-makerspace-hours-steele-mem-97/
LOCATION:Steele Memorial Library\, 119 W Main St.\, Mt. Olive\, NC\, 28365\, United States
CATEGORIES:Adult,Steele Memorial
END:VEVENT
BEGIN:VEVENT
DTSTART;TZID=America/New_York:20250219T150000
DTEND;TZID=America/New_York:20250219T163000
DTSTAMP:20260423T075732
CREATED:20250110T194822Z
LAST-MODIFIED:20250110T194822Z
UID:16036-1739977200-1739982600@wcpl.org
SUMMARY:Quilling Craft (Steele Mem.)
DESCRIPTION:We will be learning the basics of quilling\, a paper craft\, and creating a flower.  Please call 919-299-8105 ext. 5351 to register. \n 
URL:https://wcpl.org/event/quilling-craft-steele-mem/
LOCATION:Steele Memorial Library\, 119 W Main St.\, Mt. Olive\, NC\, 28365\, United States
CATEGORIES:Adult,Steele Memorial
END:VEVENT
BEGIN:VEVENT
DTSTART;TZID=America/New_York:20250219T163000
DTEND;TZID=America/New_York:20250219T173000
DTSTAMP:20260423T075732
CREATED:20250110T125931Z
LAST-MODIFIED:20250110T125931Z
UID:15980-1739982600-1739986200@wcpl.org
SUMMARY:Lo-fi Study Hour 
DESCRIPTION:Need a space to unwind and focus on your schoolwork? Set up in our auditorium and enjoy peaceful lo-fi beats as you study. Grab a few snacks and knock out that assignment! \n 
URL:https://wcpl.org/event/lo-fi-study-hour-2/
LOCATION:Wayne County Public Library – Goldsboro\, 1001 E Ash Street\, Goldsboro\, NC\, 27530\, United States
CATEGORIES:Adult,Goldsboro,Teens
END:VEVENT
BEGIN:VEVENT
DTSTART;TZID=America/New_York:20250219T180000
DTEND;TZID=America/New_York:20250219T190000
DTSTAMP:20260423T075732
CREATED:20250110T125516Z
LAST-MODIFIED:20250110T125516Z
UID:15978-1739988000-1739991600@wcpl.org
SUMMARY:Wellness Wednesday: Heart Health 
DESCRIPTION:Join us for our monthly Wellness Wednesday series! This month\, Sylvia Judd from UNC Health Wayne will join us to discuss heart health. Call 919-735-1824 Ext 5100 to register or for more information.  Meet in the Yellow Study Room at the Goldsboro Library. \n 
URL:https://wcpl.org/event/wellness-wednesday-heart-health/
LOCATION:Wayne County Public Library – Goldsboro\, 1001 E Ash Street\, Goldsboro\, NC\, 27530\, United States
CATEGORIES:Adult,Goldsboro
END:VEVENT
BEGIN:VEVENT
DTSTART;TZID=America/New_York:20250220T160000
DTEND;TZID=America/New_York:20250220T170000
DTSTAMP:20260423T075732
CREATED:20250110T130112Z
LAST-MODIFIED:20250110T130112Z
UID:15982-1740067200-1740070800@wcpl.org
SUMMARY:Getting Started with Local History 
DESCRIPTION:Join us for an opportunity to get started with researching your family history. We will offer an overview of tips and tricks for getting started with the genealogy resources offered by our library. Space is limited. Registration required. Call 919-705-1830. \n 
URL:https://wcpl.org/event/getting-started-with-local-history-2/
LOCATION:Wayne County Public Library – Goldsboro\, 1001 E Ash Street\, Goldsboro\, NC\, 27530\, United States
CATEGORIES:Adult,Goldsboro,Local History
END:VEVENT
BEGIN:VEVENT
DTSTART;TZID=America/New_York:20250221T130000
DTEND;TZID=America/New_York:20250221T160000
DTSTAMP:20260423T075732
CREATED:20250110T201016Z
LAST-MODIFIED:20250110T201016Z
UID:16052-1740142800-1740153600@wcpl.org
SUMMARY:Open Makerspace Hours (Steele Mem.)
DESCRIPTION:Bring your own supplies and use our makerspace tools – Cricut\, sewing\, knitting\, crochet – on our big craft tables. \n 
URL:https://wcpl.org/event/open-makerspace-hours-steele-mem-101/
LOCATION:Steele Memorial Library\, 119 W Main St.\, Mt. Olive\, NC\, 28365\, United States
CATEGORIES:Adult,Steele Memorial
END:VEVENT
BEGIN:VEVENT
DTSTART;TZID=America/New_York:20250225T150000
DTEND;TZID=America/New_York:20250225T160000
DTSTAMP:20260423T075732
CREATED:20250113T183948Z
LAST-MODIFIED:20250113T183948Z
UID:16096-1740495600-1740499200@wcpl.org
SUMMARY:New Dawn Inspirational Book Club 
DESCRIPTION:Join us as we discuss books of Inspirational Fiction. This month we will be discussing the book Letters of Trust by Wanda E. Brunstetter.  Please call 919-735-1824\, ext. 5102 to register. \n 
URL:https://wcpl.org/event/new-dawn-inspirational-book-club-34/
LOCATION:Wayne County Public Library – Goldsboro\, 1001 E Ash Street\, Goldsboro\, NC\, 27530\, United States
CATEGORIES:Adult,Goldsboro,Library Book Club
END:VEVENT
BEGIN:VEVENT
DTSTART;TZID=America/New_York:20250226T100000
DTEND;TZID=America/New_York:20250226T130000
DTSTAMP:20260423T075732
CREATED:20250110T195954Z
LAST-MODIFIED:20250110T195954Z
UID:16046-1740564000-1740574800@wcpl.org
SUMMARY:Open Makerspace Hours (Steele Mem.)
DESCRIPTION:Bring your own supplies and use our makerspace tools – Cricut\, sewing\, knitting\, crochet – on our big craft tables. \n 
URL:https://wcpl.org/event/open-makerspace-hours-steele-mem-98/
LOCATION:Steele Memorial Library\, 119 W Main St.\, Mt. Olive\, NC\, 28365\, United States
CATEGORIES:Adult,Steele Memorial
END:VEVENT
BEGIN:VEVENT
DTSTART;TZID=America/New_York:20250226T150000
DTEND;TZID=America/New_York:20250226T160000
DTSTAMP:20260423T075732
CREATED:20250110T195055Z
LAST-MODIFIED:20250110T195055Z
UID:16038-1740582000-1740585600@wcpl.org
SUMMARY:Clementine Hunter’s World (Steele Mem.)
DESCRIPTION:This is a biographical documentary film about African American\, self-taught artist\, Clementine Hunter who revealed through her vibrant paintings what daily life was like for her community on a 20th Century plantation.  Please call 919-299-8105 ext. 5351 to register. \n 
URL:https://wcpl.org/event/clementine-hunters-world-steele-mem/
LOCATION:Steele Memorial Library\, 119 W Main St.\, Mt. Olive\, NC\, 28365\, United States
CATEGORIES:Adult,Steele Memorial
END:VEVENT
BEGIN:VEVENT
DTSTART;TZID=America/New_York:20250226T183000
DTEND;TZID=America/New_York:20250226T193000
DTSTAMP:20260423T075732
CREATED:20250113T184256Z
LAST-MODIFIED:20250113T184256Z
UID:16100-1740594600-1740598200@wcpl.org
SUMMARY:Paint & Sip Coffee
DESCRIPTION:Paint a picture with us – all skill levels welcomed and encouraged! Registration required. Call (919) 735-1824 ext 5102 or email jamie.tyler@waynegov.com to register. \n 
URL:https://wcpl.org/event/paint-sip-coffee-13/
LOCATION:Wayne County Public Library – Goldsboro\, 1001 E Ash Street\, Goldsboro\, NC\, 27530\, United States
CATEGORIES:Adult,Goldsboro
END:VEVENT
BEGIN:VEVENT
DTSTART;TZID=America/New_York:20250227T150000
DTEND;TZID=America/New_York:20250227T160000
DTSTAMP:20260423T075732
CREATED:20250110T193541Z
LAST-MODIFIED:20250110T193541Z
UID:16028-1740668400-1740672000@wcpl.org
SUMMARY:Cardio Drumming  (Steele Mem.)
DESCRIPTION:Cardio drumming is an adult class that brings together drumsticks\, an exercise ball\, and stand to create one of the most fun workouts you’ll ever do.  Please call 919-299-8105 ext. 5351 to register. \n 
URL:https://wcpl.org/event/cardio-drumming-steele-mem-45/
LOCATION:Steele Memorial Library\, 119 W Main St.\, Mt. Olive\, NC\, 28365\, United States
CATEGORIES:Adult,Steele Memorial
END:VEVENT
BEGIN:VEVENT
DTSTART;TZID=America/New_York:20250227T150000
DTEND;TZID=America/New_York:20250227T163000
DTSTAMP:20260423T075732
CREATED:20250110T131123Z
LAST-MODIFIED:20250110T131123Z
UID:15988-1740668400-1740673800@wcpl.org
SUMMARY:Cardio Drumming  (Goldsboro)
DESCRIPTION:Start something new this year and get into a groovy Rhythm!  Space is limited so call 919-735-1824 ext. 5100 for more information or to sign up! \n 
URL:https://wcpl.org/event/cardio-drumming-goldsboro-2/
LOCATION:Wayne County Public Library – Goldsboro\, 1001 E Ash Street\, Goldsboro\, NC\, 27530\, United States
CATEGORIES:Adult,Goldsboro
END:VEVENT
BEGIN:VEVENT
DTSTART;TZID=America/New_York:20250227T180000
DTEND;TZID=America/New_York:20250227T190000
DTSTAMP:20260423T075732
CREATED:20250110T131356Z
LAST-MODIFIED:20250110T131356Z
UID:15990-1740679200-1740682800@wcpl.org
SUMMARY:From the Archive: the Conway Rose Collection 
DESCRIPTION:Join us for our first ever From the Archive program! We will discuss the process of acquiring and managing our local history collection\, and attendees will have an opportunity to dig deeper into one of our many special collections – the Conway Rose Collection.  Space is limited. Registration required! Call 919-705-1830. \n 
URL:https://wcpl.org/event/from-the-archive-the-conway-rose-collection/
LOCATION:Wayne County Public Library – Goldsboro\, 1001 E Ash Street\, Goldsboro\, NC\, 27530\, United States
CATEGORIES:Adult,Goldsboro,Local History
END:VEVENT
BEGIN:VEVENT
DTSTART;TZID=America/New_York:20250227T180000
DTEND;TZID=America/New_York:20250227T190000
DTSTAMP:20260423T075732
CREATED:20250113T183707Z
LAST-MODIFIED:20250113T183707Z
UID:16094-1740679200-1740682800@wcpl.org
SUMMARY:Silent Read N’ Sip 
DESCRIPTION:Instead of setting time constraints on yourself to read a certain type of book\, visit a newer type of book club where you can read whatever you want. We’ll begin by talking about what books we are currently reading. Later\, you will silently read the book you brought to our club. Feel free to read print or electronic books. This is meant to be a quiet\, cozy\, and relaxing time for everyone. \n 
URL:https://wcpl.org/event/silent-read-n-sip-13/
LOCATION:Wayne County Public Library – Goldsboro\, 1001 E Ash Street\, Goldsboro\, NC\, 27530\, United States
CATEGORIES:Adult,Goldsboro,Library Book Club
END:VEVENT
BEGIN:VEVENT
DTSTART;TZID=America/New_York:20250228T130000
DTEND;TZID=America/New_York:20250228T160000
DTSTAMP:20260423T075732
CREATED:20250110T201203Z
LAST-MODIFIED:20250110T201203Z
UID:16054-1740747600-1740758400@wcpl.org
SUMMARY:Open Makerspace Hours (Steele Mem.)
DESCRIPTION:Bring your own supplies and use our makerspace tools – Cricut\, sewing\, knitting\, crochet – on our big craft tables. \n 
URL:https://wcpl.org/event/open-makerspace-hours-steele-mem-102/
LOCATION:Steele Memorial Library\, 119 W Main St.\, Mt. Olive\, NC\, 28365\, United States
CATEGORIES:Adult,Steele Memorial
END:VEVENT
END:VCALENDAR